BEGIN:VCALENDAR
VERSION:2.0
PRODID:-//SUB40DB - ECPv6.15.17//NONSGML v1.0//EN
CALSCALE:GREGORIAN
METHOD:PUBLISH
X-WR-CALNAME:SUB40DB
X-ORIGINAL-URL:https://www.sub40db.nl
X-WR-CALDESC:Evenementen voor SUB40DB
REFRESH-INTERVAL;VALUE=DURATION:PT1H
X-Robots-Tag:noindex
X-PUBLISHED-TTL:PT1H
BEGIN:VTIMEZONE
TZID:Europe/Amsterdam
BEGIN:DAYLIGHT
TZOFFSETFROM:+0100
TZOFFSETTO:+0200
TZNAME:CEST
DTSTART:20250330T010000
END:DAYLIGHT
BEGIN:STANDARD
TZOFFSETFROM:+0200
TZOFFSETTO:+0100
TZNAME:CET
DTSTART:20251026T010000
END:STANDARD
BEGIN:DAYLIGHT
TZOFFSETFROM:+0100
TZOFFSETTO:+0200
TZNAME:CEST
DTSTART:20260329T010000
END:DAYLIGHT
BEGIN:STANDARD
TZOFFSETFROM:+0200
TZOFFSETTO:+0100
TZNAME:CET
DTSTART:20261025T010000
END:STANDARD
BEGIN:DAYLIGHT
TZOFFSETFROM:+0100
TZOFFSETTO:+0200
TZNAME:CEST
DTSTART:20270328T010000
END:DAYLIGHT
BEGIN:STANDARD
TZOFFSETFROM:+0200
TZOFFSETTO:+0100
TZNAME:CET
DTSTART:20271031T010000
END:STANDARD
END:VTIMEZONE
BEGIN:VEVENT
DTSTART;TZID=Europe/Amsterdam:20260319T170000
DTEND;TZID=Europe/Amsterdam:20260319T200000
DTSTAMP:20260425T163554
CREATED:20250827T113224Z
LAST-MODIFIED:20260319T125326Z
UID:10000011-1773939600-1773950400@www.sub40db.nl
SUMMARY:SUB40DB Springdrinks 2026
DESCRIPTION:Laagdrempelig netwerken bij dé Business Community <40 van 's-Hertogenbosch e.o.\n\n\nHét moment om in een laagdrempelige\, informele setting met andere jonge professionals en ondernemers de lente in te luiden! \nEen exclusief eerste kijkje bij de de nieuwe horeca hotspot: PARK! Voordat ze officieel open gaan mogen wij onze glazen heffen om het officieel in te luiden. \n \nLocatie: Park\, Kolperstraat 14 \n \n \nMember worden \nBen jij helemaal fan van onze netwerkevents en wil je een jaar lang overal bij zijn? Ga dan voor een jaarlidmaatschap met het Community Ticket! \nJe kunt op elk moment in het jaar lid worden. Lees hier over hoe het werkt en de voordelen van het jaarlidmaatschap.
URL:https://www.sub40db.nl/event/sub40db-springdrinks-2026/
LOCATION:Park\, 14 Kolperstraat\, 's-Hertogenbosch\, NB\, 5211 KC\, Netherlands
ATTACH;FMTTYPE=image/jpeg:https://www.sub40db.nl/wp-content/uploads/2025/11/ca2ac16ee60c6996c9d25fedc92fc429.jpg
END:VEVENT
END:VCALENDAR