BEGIN:VCALENDAR
VERSION:2.0
PRODID:-//SUB40DB - ECPv6.15.17//NONSGML v1.0//EN
CALSCALE:GREGORIAN
METHOD:PUBLISH
X-WR-CALNAME:SUB40DB
X-ORIGINAL-URL:https://www.sub40db.nl
X-WR-CALDESC:Evenementen voor SUB40DB
REFRESH-INTERVAL;VALUE=DURATION:PT1H
X-Robots-Tag:noindex
X-PUBLISHED-TTL:PT1H
BEGIN:VTIMEZONE
TZID:Europe/Amsterdam
BEGIN:DAYLIGHT
TZOFFSETFROM:+0100
TZOFFSETTO:+0200
TZNAME:CEST
DTSTART:20250330T010000
END:DAYLIGHT
BEGIN:STANDARD
TZOFFSETFROM:+0200
TZOFFSETTO:+0100
TZNAME:CET
DTSTART:20251026T010000
END:STANDARD
BEGIN:DAYLIGHT
TZOFFSETFROM:+0100
TZOFFSETTO:+0200
TZNAME:CEST
DTSTART:20260329T010000
END:DAYLIGHT
BEGIN:STANDARD
TZOFFSETFROM:+0200
TZOFFSETTO:+0100
TZNAME:CET
DTSTART:20261025T010000
END:STANDARD
BEGIN:DAYLIGHT
TZOFFSETFROM:+0100
TZOFFSETTO:+0200
TZNAME:CEST
DTSTART:20270328T010000
END:DAYLIGHT
BEGIN:STANDARD
TZOFFSETFROM:+0200
TZOFFSETTO:+0100
TZNAME:CET
DTSTART:20271031T010000
END:STANDARD
END:VTIMEZONE
BEGIN:VEVENT
DTSTART;TZID=Europe/Amsterdam:20260625T170000
DTEND;TZID=Europe/Amsterdam:20260625T200000
DTSTAMP:20260423T164924
CREATED:20250827T113224Z
LAST-MODIFIED:20260422T154749Z
UID:10000012-1782406800-1782417600@www.sub40db.nl
SUMMARY:SUB40DB Summerdrinks 2026
DESCRIPTION:Laagdrempelig netwerken bij dé Business Community <40 van 's-Hertogenbosch e.o.\n\n\nTijdens de SUB40DB Summerdrinks heffen we het glas op de zomer! We doen dit op een ultiem zomerse plek in Den Bosch\, namelijk Stadscamping Overboord. Met je voeten in het gras of in het zand\, uitkijkend over het water en met een koud drankje in je hand. \n \nMember worden \nBen jij helemaal fan van onze netwerkevents en wil je een jaar lang overal bij zijn? Ga dan voor een jaarlidmaatschap met het Community Ticket! \nJe kunt op elk moment in het jaar lid worden. Lees hier over hoe het werkt en de voordelen van het jaarlidmaatschap.
URL:https://www.sub40db.nl/event/sub40db-summerdrinks-2026/
LOCATION:Stadscamping Overboord\, 35a Van Veldekekade\, 's-Hertogenbosch\, NB\, 5216 KT\, Netherlands
ATTACH;FMTTYPE=image/jpeg:https://www.sub40db.nl/wp-content/uploads/2025/11/8d196685518ce1cebbb57b9af0ffe76b-1.jpg
END:VEVENT
END:VCALENDAR