BEGIN:VCALENDAR
VERSION:2.0
PRODID:-//SUB40DB - ECPv6.15.17//NONSGML v1.0//EN
CALSCALE:GREGORIAN
METHOD:PUBLISH
X-ORIGINAL-URL:https://www.sub40db.nl
X-WR-CALDESC:Evenementen voor SUB40DB
REFRESH-INTERVAL;VALUE=DURATION:PT1H
X-Robots-Tag:noindex
X-PUBLISHED-TTL:PT1H
BEGIN:VTIMEZONE
TZID:Europe/Amsterdam
BEGIN:DAYLIGHT
TZOFFSETFROM:+0100
TZOFFSETTO:+0200
TZNAME:CEST
DTSTART:20250330T010000
END:DAYLIGHT
BEGIN:STANDARD
TZOFFSETFROM:+0200
TZOFFSETTO:+0100
TZNAME:CET
DTSTART:20251026T010000
END:STANDARD
BEGIN:DAYLIGHT
TZOFFSETFROM:+0100
TZOFFSETTO:+0200
TZNAME:CEST
DTSTART:20260329T010000
END:DAYLIGHT
BEGIN:STANDARD
TZOFFSETFROM:+0200
TZOFFSETTO:+0100
TZNAME:CET
DTSTART:20261025T010000
END:STANDARD
BEGIN:DAYLIGHT
TZOFFSETFROM:+0100
TZOFFSETTO:+0200
TZNAME:CEST
DTSTART:20270328T010000
END:DAYLIGHT
BEGIN:STANDARD
TZOFFSETFROM:+0200
TZOFFSETTO:+0100
TZNAME:CET
DTSTART:20271031T010000
END:STANDARD
END:VTIMEZONE
BEGIN:VEVENT
DTSTART;TZID=Europe/Amsterdam:20260203T080000
DTEND;TZID=Europe/Amsterdam:20260203T093000
DTSTAMP:20260425T180249
CREATED:20260118T083402Z
LAST-MODIFIED:20260202T092711Z
UID:10000018-1770105600-1770111000@www.sub40db.nl
SUMMARY:Ontbijtsessie TEN advocaten
DESCRIPTION:Doe inspiratie op tijdens een ontbijt samen met andere SUB40DB communityleden.\n\n\nIsabelle neemt ons mee in de tegenwoordige rol van advocaat als trusted advisor\, die verder kijkt dan juridische kwesties en proactief meedenkt over strategie\, kansen en risico’s\, gericht op duurzaam succes. \nHet recht is ook al lang niet meer stoffig\, met droge wetten/regels\, maar super relevant en het raakt ons allemaal direct in het dagelijks leven. In een interactief deel duiken we samen in een casus die tot de verbeelding spreekt.
URL:https://www.sub40db.nl/event/ontbijtsessie-ten-advocaten/
LOCATION:TEN Advocaten N.V. – Den Bosch\, 280 Zuiderparkweg\, 's-Hertogenbosch\, NB\, 5216 HE\, Netherlands
ATTACH;FMTTYPE=image/jpeg:https://www.sub40db.nl/wp-content/uploads/2026/01/1e09b477c4d834511b8fadc8bec39990.jpg
END:VEVENT
END:VCALENDAR