BEGIN:VCALENDAR
VERSION:2.0
PRODID:-//SUB40DB - ECPv6.15.17//NONSGML v1.0//EN
CALSCALE:GREGORIAN
METHOD:PUBLISH
X-ORIGINAL-URL:https://www.sub40db.nl
X-WR-CALDESC:Evenementen voor SUB40DB
REFRESH-INTERVAL;VALUE=DURATION:PT1H
X-Robots-Tag:noindex
X-PUBLISHED-TTL:PT1H
BEGIN:VTIMEZONE
TZID:Europe/Amsterdam
BEGIN:DAYLIGHT
TZOFFSETFROM:+0100
TZOFFSETTO:+0200
TZNAME:CEST
DTSTART:20250330T010000
END:DAYLIGHT
BEGIN:STANDARD
TZOFFSETFROM:+0200
TZOFFSETTO:+0100
TZNAME:CET
DTSTART:20251026T010000
END:STANDARD
BEGIN:DAYLIGHT
TZOFFSETFROM:+0100
TZOFFSETTO:+0200
TZNAME:CEST
DTSTART:20260329T010000
END:DAYLIGHT
BEGIN:STANDARD
TZOFFSETFROM:+0200
TZOFFSETTO:+0100
TZNAME:CET
DTSTART:20261025T010000
END:STANDARD
BEGIN:DAYLIGHT
TZOFFSETFROM:+0100
TZOFFSETTO:+0200
TZNAME:CEST
DTSTART:20270328T010000
END:DAYLIGHT
BEGIN:STANDARD
TZOFFSETFROM:+0200
TZOFFSETTO:+0100
TZNAME:CET
DTSTART:20271031T010000
END:STANDARD
END:VTIMEZONE
BEGIN:VEVENT
DTSTART;TZID=Europe/Amsterdam:20260604T170000
DTEND;TZID=Europe/Amsterdam:20260604T200000
DTSTAMP:20260425T135232
CREATED:20260216T104232Z
LAST-MODIFIED:20260424T160104Z
UID:10000019-1780592400-1780603200@www.sub40db.nl
SUMMARY:Bosch Parade x SUB40DB
DESCRIPTION:Uitzoomen in eigen stad. Beleef de Bosch Parade met Sub40DB: creatief\, verbindend en puur Bossche magie.\n\n\nSoms moet je gewoon even uitzoomen. Weg van de agenda’s\, targets en to-do’s en midden in de magie van onze eigen stad stappen. De Bosch Parade is geen gewoon evenement\, het is creativiteit op z’n Bossche: eigenzinnig\, indrukwekkend en verbindend. Een perfecte setting om elkaar op een andere manier te ontmoeten en samen geïnspireerd te raken.
URL:https://www.sub40db.nl/event/bosch-parade-x-sub40db/
LOCATION:Tuin der Lusten\, 2 Zuid-Willemsvaart\, 's-Hertogenbosch\, NB\, 5211 NW\, Netherlands
ATTACH;FMTTYPE=image/jpeg:https://www.sub40db.nl/wp-content/uploads/2026/02/8db4bcff60fc4f4d97f5240cfe50f2e7.jpg
END:VEVENT
END:VCALENDAR